BEGIN:VCALENDAR
VERSION:2.0
PRODID:-//Ramsbury Horticultural Society - ECPv6.15.20//NONSGML v1.0//EN
CALSCALE:GREGORIAN
METHOD:PUBLISH
X-ORIGINAL-URL:https://ramsburyhortsoc.co.uk
X-WR-CALDESC:Events for Ramsbury Horticultural Society
REFRESH-INTERVAL;VALUE=DURATION:PT1H
X-Robots-Tag:noindex
X-PUBLISHED-TTL:PT1H
BEGIN:VTIMEZONE
TZID:Europe/London
BEGIN:DAYLIGHT
TZOFFSETFROM:+0000
TZOFFSETTO:+0100
TZNAME:BST
DTSTART:20190331T010000
END:DAYLIGHT
BEGIN:STANDARD
TZOFFSETFROM:+0100
TZOFFSETTO:+0000
TZNAME:GMT
DTSTART:20191027T010000
END:STANDARD
BEGIN:DAYLIGHT
TZOFFSETFROM:+0000
TZOFFSETTO:+0100
TZNAME:BST
DTSTART:20200329T010000
END:DAYLIGHT
BEGIN:STANDARD
TZOFFSETFROM:+0100
TZOFFSETTO:+0000
TZNAME:GMT
DTSTART:20201025T010000
END:STANDARD
BEGIN:DAYLIGHT
TZOFFSETFROM:+0000
TZOFFSETTO:+0100
TZNAME:BST
DTSTART:20210328T010000
END:DAYLIGHT
BEGIN:STANDARD
TZOFFSETFROM:+0100
TZOFFSETTO:+0000
TZNAME:GMT
DTSTART:20211031T010000
END:STANDARD
END:VTIMEZONE
BEGIN:VEVENT
DTSTART;TZID=Europe/London:20200404T080000
DTEND;TZID=Europe/London:20200404T170000
DTSTAMP:20260424T163155
CREATED:20210410T130226Z
LAST-MODIFIED:20210410T130226Z
UID:932-1585987200-1586019600@ramsburyhortsoc.co.uk
SUMMARY:Spring Show 2020
DESCRIPTION:Maragaret Swan\nTwo self isolating gnomes!Steve & Shirley Campbell\nSerena Lock\nAlisha LockSpring Lawn\nDee Edwards\nAlisha LockSpring Prep\nDee EdwardsYeap definatley buying myself a prize.\nDee EdwardsI should buy myself a prize for keeping it alive\nDee EdwardsGood job there are NO RULES only had this one a couple of weeks..\nLiz Hawes\nBev MannFront Porch\nBetty HerbertsonWhat a differance a day makes…\nJessie GuntonIn Loving Memory Of Dorothy\nMaragaret Swan\nMaragaret Swan\nMaragaret Swan\nMaragaret Swan\nMargaret Swan\nMargaret Swan\nMargaret Swan\nMargaret Swan\nVictoria Hellyer\nVictoria Hellyer\nVictoria Hellyer\nVictoria Hellyer\nVictoria Hellyer\nVictoria Hellyer\nVictoria Hellyer\nVictoria Hellyer\nVictoria Hellyer\nVictoria Hellyer\nVictoria Hellyer\nVictoria Hellyer\nVictoria Hellyer\nVictoria Hellyer\nVictoria Hellyer\nVictoria Hellyer Looks like somthing for the summer show\nClive SmithAkebia Quinata\nClive SmithMagnolia\nClive SmithPrimroses\nClive SmithFRITILLARIA MELEAGRIS\nKate & Liam Scally\nVictoria Hellyer\nKate & Liam Scally\nKate & Liam Scally\n \nKate & Liam ScallySpring Onions\n \nKate & Liam ScallySpinach\nJose Luke\nJose Luke\nJose Luke\nJanet HunterMarmalade\n \nJanet HunterCheese Scones\nBev Mann\nBev Mann\nVictoria Hellyer “Getting ready for the summer show”\nTwo self isolating gnomes!Steve & Shirley Campbell\nSteve & Shirley Campbell\nSteve & Shirley Campbell\nFritillaries Bev Mann\nTreacle tart\, Cheese & Raisin Scones and Lemon DrizzleJose Luke If anyone needs me this afternoon I know whos doorstep I going to be on……\n \nBev Mann\nBev MannFront Porch\n \nBev MannBack Garden\nSheryl Ann Little\nSheryl Ann Little\nSheryl Ann Little\nSheryl Ann Little\nNicky & Donald Sherlock\nNicky & Donald Sherlock\nNicky & Donald Sherlock\nNicky & Donald Sherlock\nNicky & Donald Sherlock\nNicky & Donald Sherlock\nNicky & Donald Sherlock\nNicky & Donald SherlockThe officail line my marmalade this year is delicious!!!\nNicky & Donald Sherlock\nJessie Gunton A Floral Tribute To Dorothy.\nDee Edwards Another year my auricula not perfect on show day but shes here and no show is really complete without a gnome or 2…\nRamsbury Allotments Plot3\nRamsbury Allotments Plot3\nRamsbury Allotments Plot 18\nDee Edwards Ramsbury Allotments Plot 1\nDee Edwards Ramsbury Allotments Plot 1\nDee Edwards Ramsbury Allotments Plot 1\nDee Edwards Ramsbury Allotments Plot 1\nwaiting to be on Ramsbury Allotments Plot 1\nwaiting to be on Ramsbury Allotments Plot 1\nwaiting to be on Ramsbury Allotments Plot 1\nDee Edwards Ramsbury Allotments Plot 1\nDee Edwards Ramsbury Allotments Plot 1\nDee Edwards Ramsbury Allotments Plot 1\nDee Edwards Ramsbury Allotments Plot 1\nJessie Gunton A Floral Tribute To Dorothy.\nLiz Hawes Foliage\nLiz Hawes\nClive Smith Berberis Darwinnii\nMargaret\nMargaret\nLibby Stubbs\nLibby Stubbs\nLibby Stubbs\nLibby Stubbs\nLibby Stubbs\nLibby Stubbs\nLibby Stubbs\nLibby Stubbs\nLibby Stubbs\nLibby Stubbs\nLibby Stubbs\nLibby Stubbs\nLibby Stubbs\nLibby Stubbs\nLibby Stubbs\nLibby Stubbs\nLibby Stubbs\nLibby Stubbs\nLibby Stubbs\nLibby Stubbs\nLibby Stubbs\nLibby Stubbs\nLibby Stubbs\nLibby Stubbs\nLibby Stubbs\nLibby Stubbs\nLibby Stubbs\nLibby Stubbs\nLibby Stubbs\nLibby Stubbs\nSheryl Ann Little\nSheryl Ann Little\nSheryl Ann Little\nSheryl Ann Little\nSheryl Ann Little\nSheryl Ann Little\nSheryl Ann Little\nSerena Lock\nMaragaret\nMaragaret\nMaragaret\nMaragaret\nMaragaret\nSusan Keen\nTulips Grown In A Pot Bev Mann\nLinda & Hugh Clayton\nLinda & Hugh Clayton\nLinda & Hugh Clayton Rosemary Bush\nJust checking the rosemary Linda & Hugh Clayton\nBev Mann Winter Gem\nHyacinths In A Bowl ooh the smell. …Carnegie Bev Mann\nShelia Glass\nShelia Glass\nShelia Glass\nShelia Glass\nJanet Hierons Chaenomeles\nJanet Hierons Christmas roses\nJanet Hierons Primose\nJanet Hierons Primroses\nShelia Glass\nShelia Glass Leeks\nShelia Glass\nShelia Glass\nShelia Glass\nShelia Glass\nBetty Herbertson\n  \nPeter Kearns Any other vegetable\nDiann Barnet\nDiann Barnet\nDee Edwards Ramsbury Allotments Plot 1\nDee Edwards Ramsbury Allotments Plot 1\nDee Edwards Ramsbury Allotments Plot 1\nDee Edwards Ramsbury Allotments Plot 1\nDee Edwards Ramsbury Allotments Plot 1\nRamsbury W.I.\nDenise Edwards\nDee Edwards Ramsbury Allotments Plot 1\nAlisha Lock\nLiz Hawes\nDee Edwards Ramsbury Allotments Plot 1\nDee Edwards Ramsbury Allotments Plot 1\nDiann Barnet\nDiann Barnet\nDiann Barnet\nDiann Barnet\nDiann Barnet\nDiann Barnet\nDiann Barnet\nDiann Barnet\nDiann Barnet\nDiann Barnet\nMargaret Mitson Spring Pot\nMargaret Mitson Hellebous\nMargaret Mitson\nMargaret Mitson Flower Bed\nRosalie Winter Cheese Scones I am sure Dennis can report back on taste….\nRosalie Winter Spring Pots\nRosalie Winter Spring Pots\nBetty Herbertson Wood Anemones\nBetty HerbertsonTulips\nClemency Ames\nClemency Ames\nClemency Ames\nAnenome blanda Suzie Wimster\nSuzie Wimster Camellia\nSuzie Wimster Chionodoxa\nSuzie Wimster Forsythia\nSuzie Wimster Hellebore\nSuzie Wimster Narcissus Thalia\nSuzie Wimster Narcissus\nSuzie Wimster Primrose\nSuzie Wimster Tulip\nSuzie Wimster Viburnum\nSuzie Wimster Vinca minor\nSuzie Wimster Viola\nSusan Eilot-Cohen\nSusan Eilot-Cohen\nSusan Eilot-Cohen\nSusan Eilot-Cohen\nSusan Eilot-Cohen\nSusan Eilot-Cohen\nSusan Eilot-Cohen\nSusan Eilot-Cohen\nClive Smith Tulip\nClive Smith Tulip\nClive Smith Euphorbia Characias\nClive Smith Berberis Darwinnii\nMichael Handford Tulips\nMichael Handford Spring Flower\nMichael Handford Camelia Speciman\nMichael Handford Flowering Scrub\nMichael Handford Flowering Scrub\nMichael Handford Flowering Shrub\nMichael Handford Flowering Shrub\nMichael Handford Narcissus large cup\nMichael Handford Narcissus large cup\nMichael Handford Narcissus small cup\nMichael Handford Orchid Pleoni\nMichael Handford Pot plant flowering\nMichael Handford Tulip\nMichael Handford Tulip\nLiz Hawes\nLiz Hawes\nLiz Hawes\nBetty Herbertson Camellias\nBetty Herbertson Skimmia\nBetty Herbertson Narcissi bunch flowered
URL:https://ramsburyhortsoc.co.uk/event/spring-show-2020/
END:VEVENT
BEGIN:VEVENT
DTSTART;TZID=Europe/London:20200404T140000
DTEND;TZID=Europe/London:20200404T163000
DTSTAMP:20260424T163155
CREATED:20200115T104236Z
LAST-MODIFIED:20200404T004618Z
UID:246-1586008800-1586017800@ramsburyhortsoc.co.uk
SUMMARY:Virtual Spring Show
DESCRIPTION:The virtual Spring Show will be published at 2.00pm
URL:https://ramsburyhortsoc.co.uk/event/spring-show-and-bowls-club-fete/
LOCATION:Ramsbury Memorial Hall\, United Kingdom
END:VEVENT
END:VCALENDAR