BEGIN:VCALENDAR
VERSION:2.0
PRODID:-//Ramsbury Horticultural Society - ECPv6.15.20//NONSGML v1.0//EN
CALSCALE:GREGORIAN
METHOD:PUBLISH
X-ORIGINAL-URL:https://ramsburyhortsoc.co.uk
X-WR-CALDESC:Events for Ramsbury Horticultural Society
REFRESH-INTERVAL;VALUE=DURATION:PT1H
X-Robots-Tag:noindex
X-PUBLISHED-TTL:PT1H
BEGIN:VTIMEZONE
TZID:Europe/London
BEGIN:DAYLIGHT
TZOFFSETFROM:+0000
TZOFFSETTO:+0100
TZNAME:BST
DTSTART:20190331T010000
END:DAYLIGHT
BEGIN:STANDARD
TZOFFSETFROM:+0100
TZOFFSETTO:+0000
TZNAME:GMT
DTSTART:20191027T010000
END:STANDARD
BEGIN:DAYLIGHT
TZOFFSETFROM:+0000
TZOFFSETTO:+0100
TZNAME:BST
DTSTART:20200329T010000
END:DAYLIGHT
BEGIN:STANDARD
TZOFFSETFROM:+0100
TZOFFSETTO:+0000
TZNAME:GMT
DTSTART:20201025T010000
END:STANDARD
BEGIN:DAYLIGHT
TZOFFSETFROM:+0000
TZOFFSETTO:+0100
TZNAME:BST
DTSTART:20210328T010000
END:DAYLIGHT
BEGIN:STANDARD
TZOFFSETFROM:+0100
TZOFFSETTO:+0000
TZNAME:GMT
DTSTART:20211031T010000
END:STANDARD
END:VTIMEZONE
BEGIN:VEVENT
DTSTART;VALUE=DATE:20201129
DTEND;VALUE=DATE:20201130
DTSTAMP:20260421T202737
CREATED:20201129T101720Z
LAST-MODIFIED:20210410T131343Z
UID:873-1606608000-1606694399@ramsburyhortsoc.co.uk
SUMMARY:Photo Day
DESCRIPTION:  \nOn this day we asked the community to take a pictures of flowers that where out either in their garden or whilst out on a walk. \nHere they are.    29th November 2020 \nEnjoy Dee & Di xx \n 
URL:https://ramsburyhortsoc.co.uk/event/photo-day/
END:VEVENT
END:VCALENDAR