BEGIN:VCALENDAR
VERSION:2.0
PRODID:-//Ramsbury Horticultural Society - ECPv6.15.20//NONSGML v1.0//EN
CALSCALE:GREGORIAN
METHOD:PUBLISH
X-WR-CALNAME:Ramsbury Horticultural Society
X-ORIGINAL-URL:https://ramsburyhortsoc.co.uk
X-WR-CALDESC:Events for Ramsbury Horticultural Society
REFRESH-INTERVAL;VALUE=DURATION:PT1H
X-Robots-Tag:noindex
X-PUBLISHED-TTL:PT1H
BEGIN:VTIMEZONE
TZID:Europe/London
BEGIN:DAYLIGHT
TZOFFSETFROM:+0000
TZOFFSETTO:+0100
TZNAME:BST
DTSTART:20200329T010000
END:DAYLIGHT
BEGIN:STANDARD
TZOFFSETFROM:+0100
TZOFFSETTO:+0000
TZNAME:GMT
DTSTART:20201025T010000
END:STANDARD
BEGIN:DAYLIGHT
TZOFFSETFROM:+0000
TZOFFSETTO:+0100
TZNAME:BST
DTSTART:20210328T010000
END:DAYLIGHT
BEGIN:STANDARD
TZOFFSETFROM:+0100
TZOFFSETTO:+0000
TZNAME:GMT
DTSTART:20211031T010000
END:STANDARD
BEGIN:DAYLIGHT
TZOFFSETFROM:+0000
TZOFFSETTO:+0100
TZNAME:BST
DTSTART:20220327T010000
END:DAYLIGHT
BEGIN:STANDARD
TZOFFSETFROM:+0100
TZOFFSETTO:+0000
TZNAME:GMT
DTSTART:20221030T010000
END:STANDARD
END:VTIMEZONE
BEGIN:VEVENT
DTSTART;TZID=Europe/London:20210406T080000
DTEND;TZID=Europe/London:20210406T170000
DTSTAMP:20260421T111102
CREATED:20210402T085602Z
LAST-MODIFIED:20210402T085602Z
UID:906-1617696000-1617728400@ramsburyhortsoc.co.uk
SUMMARY:Compost order date
DESCRIPTION:Sinclairs Multi Purpose 75 Litres £7 each \ndelivery 12 April orders must be placed by 6 April. \nYOU MUST PRE ORDER. \n Email Sheila with orders             candsglass@btinternet.com
URL:https://ramsburyhortsoc.co.uk/event/compost-order-date/
END:VEVENT
END:VCALENDAR