BEGIN:VCALENDAR
VERSION:2.0
PRODID:-//Ramsbury Horticultural Society - ECPv6.15.20//NONSGML v1.0//EN
CALSCALE:GREGORIAN
METHOD:PUBLISH
X-ORIGINAL-URL:https://ramsburyhortsoc.co.uk
X-WR-CALDESC:Events for Ramsbury Horticultural Society
REFRESH-INTERVAL;VALUE=DURATION:PT1H
X-Robots-Tag:noindex
X-PUBLISHED-TTL:PT1H
BEGIN:VTIMEZONE
TZID:Europe/London
BEGIN:DAYLIGHT
TZOFFSETFROM:+0000
TZOFFSETTO:+0100
TZNAME:BST
DTSTART:20200329T010000
END:DAYLIGHT
BEGIN:STANDARD
TZOFFSETFROM:+0100
TZOFFSETTO:+0000
TZNAME:GMT
DTSTART:20201025T010000
END:STANDARD
BEGIN:DAYLIGHT
TZOFFSETFROM:+0000
TZOFFSETTO:+0100
TZNAME:BST
DTSTART:20210328T010000
END:DAYLIGHT
BEGIN:STANDARD
TZOFFSETFROM:+0100
TZOFFSETTO:+0000
TZNAME:GMT
DTSTART:20211031T010000
END:STANDARD
BEGIN:DAYLIGHT
TZOFFSETFROM:+0000
TZOFFSETTO:+0100
TZNAME:BST
DTSTART:20220327T010000
END:DAYLIGHT
BEGIN:STANDARD
TZOFFSETFROM:+0100
TZOFFSETTO:+0000
TZNAME:GMT
DTSTART:20221030T010000
END:STANDARD
END:VTIMEZONE
BEGIN:VEVENT
DTSTART;TZID=Europe/London:20210725T080000
DTEND;TZID=Europe/London:20210725T170000
DTSTAMP:20260421T062431
CREATED:20210705T113255Z
LAST-MODIFIED:20210705T113255Z
UID:1007-1627200000-1627232400@ramsburyhortsoc.co.uk
SUMMARY:The Coach House & Peacock Cottage Manton\, The Old Mill Ramsbury open for NGS
DESCRIPTION:The Coach House\nBridge Street\, Manton\, Marlborough\, SN8 4HR. Anna Marsden.\nTravelling W out of Marlborough on A4 turn L after 1m to Manton village.\nGarden is 50 metres from A4 by telegraph pole on R. For parking continue into\nvillage and follow signs. Sun 25 July (2-5). Combined adm with Peacock\nCottage £7\, chd free. Home-made teas.\n½- acre country garden surrounding C18 barn\, comprising herbaceous border\,\nmixed colour themed beds\, pond garden and small veg/soft fruit patch.\nInformal lawns and mature trees provide a relaxed setting for garden art and\nwildflowers. C18 well used to water garden. ¾ of garden has disabled access on\ngrass\, gravel and cobble paths. Dogs on leads welcome. Plants for sale at Peacock Cottage. \nPeacock Cottage\nPreshute Lane\, Manton\, Marlborough\, SN8 4HQ. Ian & Clare Maurice. 1m to\nW of Marlborough along A4\, turn L at Manton Village sign. Pass signs to\npartner garden and follow Car Park signs. If arriving through Manton village\nturn R by pub. Sun 25 July (2-5). Combined adm with The Coach House £7\,\nchd free.\nSet in rural surroundings\, this expertly tended\, undulating garden\, sweeps up\nfrom the rear of the house and comprises herbaceous and mixed borders\,\nparterre and exotic bed. Created in 1966 when 2 cottages and their gardens\ncombined\, and has been developed considerably over last 15yrs. Disabled\nparking places identified in car park. Wheelchair access to garden is via lawns\nand grass paths. \nThe Old Mill\nRamsbury\, SN8 2PN. Annabel & James Dallas. 8m NE of Marlborough. From\nMarlborough head to Ramsbury. At The Bell PH follow sign to Hungerford. Garden behind yew hedge on R 100yds beyond The Bell. Sun 25 July\, Sun 22\nAug (1.30-5). Adm £6\, chd free. Tea.\nThe River Kennet runs through this\ngarden with a millrace\, a millstream\nand small channels to walk across and\nwatch the reflections in. The planting is\nrelaxed and colourful near the house\nand gets more naturalistic further out\ninto the meadows beyond. Gravel and\ngrass paths wind through controlled\nwilder areas with seating for visitors.\nThere is a more formal and productive kitchen garden. Partial wheelchair\naccess as gravel paths and bridges and very soft ground in places. \nPLEASE NOTE CORRECT DATE HERE
URL:https://ramsburyhortsoc.co.uk/event/the-coach-house-peacock-cottage-manton-the-old-mill-ramsbury-open-for-ngs/
END:VEVENT
END:VCALENDAR