BEGIN:VCALENDAR
VERSION:2.0
PRODID:-//Ramsbury Horticultural Society - ECPv6.15.20//NONSGML v1.0//EN
CALSCALE:GREGORIAN
METHOD:PUBLISH
X-ORIGINAL-URL:https://ramsburyhortsoc.co.uk
X-WR-CALDESC:Events for Ramsbury Horticultural Society
REFRESH-INTERVAL;VALUE=DURATION:PT1H
X-Robots-Tag:noindex
X-PUBLISHED-TTL:PT1H
BEGIN:VTIMEZONE
TZID:Europe/London
BEGIN:DAYLIGHT
TZOFFSETFROM:+0000
TZOFFSETTO:+0100
TZNAME:BST
DTSTART:20200329T010000
END:DAYLIGHT
BEGIN:STANDARD
TZOFFSETFROM:+0100
TZOFFSETTO:+0000
TZNAME:GMT
DTSTART:20201025T010000
END:STANDARD
BEGIN:DAYLIGHT
TZOFFSETFROM:+0000
TZOFFSETTO:+0100
TZNAME:BST
DTSTART:20210328T010000
END:DAYLIGHT
BEGIN:STANDARD
TZOFFSETFROM:+0100
TZOFFSETTO:+0000
TZNAME:GMT
DTSTART:20211031T010000
END:STANDARD
BEGIN:DAYLIGHT
TZOFFSETFROM:+0000
TZOFFSETTO:+0100
TZNAME:BST
DTSTART:20220327T010000
END:DAYLIGHT
BEGIN:STANDARD
TZOFFSETFROM:+0100
TZOFFSETTO:+0000
TZNAME:GMT
DTSTART:20221030T010000
END:STANDARD
END:VTIMEZONE
BEGIN:VEVENT
DTSTART;TZID=Europe/London:20210905T140000
DTEND;TZID=Europe/London:20210905T170000
DTSTAMP:20260421T011200
CREATED:20210705T111316Z
LAST-MODIFIED:20210705T112121Z
UID:990-1630850400-1630861200@ramsburyhortsoc.co.uk
SUMMARY:Horatio’s Garden open for NGS
DESCRIPTION:Horatio’s Garden\nDuke of Cornwall Spinal Treatment Centre\, Salisbury Hospital NHS Foundation\nTrust\, Odstock Road\, Salisbury\, SP2 8BJ. Horatio’s Garden Charity\,\nwww.horatiosgarden.org.uk.\n1m from centre of Salisbury. Follow signs for Salisbury District Hospital. Please\npark in car park 10 (which will be free to NGS visitors on the day). Sun 5 Sept\n(2-5). Adm £5\, chd free. “pre booking essential” with 30 tickets per hourly\narrival slot (2pm\, 3pm and 4pm). https://ngs.org.uk/view-garden/30781\nTea and delicious cakes – made by Horatio’s Garden volunteers – will be\nserved in the Garden Room.\nAward winning hospital garden\, opened in Sept 2012 and designed by Cleve\nWest for patients with spinal cord injury at the Duke of Cornwall Spinal\nTreatment Centre. Built from donations given in memory of Horatio Chapple\nwho was a volunteer at the centre in his school holidays. Low limestone walls\,\nwhich represent the form of the spine\, divide densely planted herbaceous\nbeds. Everything in the garden designed to benefit patients during their long\nstays in hospital. Garden is run by Head Gardener and team of volunteers.\nSouth West Regional Winner\, The English Garden’s The Nation’s Favourite\nGardens 2019. Designer Cleve West has 8 RHS gold medals. 3pm – short talk\nabout therapeutic gardens and the work of Horatio’s Garden\, Salisbury
URL:https://ramsburyhortsoc.co.uk/event/horatios-garden/
END:VEVENT
END:VCALENDAR