BEGIN:VCALENDAR
VERSION:2.0
PRODID:-//Ramsbury Horticultural Society - ECPv6.15.20//NONSGML v1.0//EN
CALSCALE:GREGORIAN
METHOD:PUBLISH
X-WR-CALNAME:Ramsbury Horticultural Society
X-ORIGINAL-URL:https://ramsburyhortsoc.co.uk
X-WR-CALDESC:Events for Ramsbury Horticultural Society
REFRESH-INTERVAL;VALUE=DURATION:PT1H
X-Robots-Tag:noindex
X-PUBLISHED-TTL:PT1H
BEGIN:VTIMEZONE
TZID:Europe/London
BEGIN:DAYLIGHT
TZOFFSETFROM:+0000
TZOFFSETTO:+0100
TZNAME:BST
DTSTART:20200329T010000
END:DAYLIGHT
BEGIN:STANDARD
TZOFFSETFROM:+0100
TZOFFSETTO:+0000
TZNAME:GMT
DTSTART:20201025T010000
END:STANDARD
BEGIN:DAYLIGHT
TZOFFSETFROM:+0000
TZOFFSETTO:+0100
TZNAME:BST
DTSTART:20210328T010000
END:DAYLIGHT
BEGIN:STANDARD
TZOFFSETFROM:+0100
TZOFFSETTO:+0000
TZNAME:GMT
DTSTART:20211031T010000
END:STANDARD
BEGIN:DAYLIGHT
TZOFFSETFROM:+0000
TZOFFSETTO:+0100
TZNAME:BST
DTSTART:20220327T010000
END:DAYLIGHT
BEGIN:STANDARD
TZOFFSETFROM:+0100
TZOFFSETTO:+0000
TZNAME:GMT
DTSTART:20221030T010000
END:STANDARD
END:VTIMEZONE
BEGIN:VEVENT
DTSTART;TZID=Europe/London:20210909T100000
DTEND;TZID=Europe/London:20210909T153000
DTSTAMP:20260421T011136
CREATED:20210705T111512Z
LAST-MODIFIED:20210705T111512Z
UID:992-1631181600-1631201400@ramsburyhortsoc.co.uk
SUMMARY:Pythouse Kitchen Garden  open for NGS
DESCRIPTION:Pythouse Kitchen Garden\nWest Hatch\, Tisbury\, SP3 6PA. Mr Piers Milburn\, 01747 870444\,\ninfo@pythousekitchengarden.co.uk\,\nwww.pythousekitchengarden.co.uk. A350 S of E Knoyle\, follow brown signs to\nWalled Garden approx 3m. From Tisbury take Newtown road past church\, stay\non it 2½m\, garden on R. Check map on www.pythousekitchengarden.co.uk.\nThur 9 Sept (10-3.30). Adm £5\, chd free. Light refreshments. If hoping to\nhave lunch in the restaurant\, pre-booking required on\nwww.pythousekitchengarden.co.uk. Visits also by arrangement May to Oct\nfor groups of up to 30.\n3 acres of working kitchen garden\, in largely continuous use since C18\, with\nfruit-lined walls and gnarled apple trees leading down to an orchard via\nravishing\, rosa rugosa-edged\, beds of flowers\, soft fruit\, vegetables and\nbeehives. A restaurant now occupies the old potting shed and conservatory\,\nwith terraces for tea on open days. Abundant herbs\, kiwis and apricots\, as well as the deliciously scented 1920s HT rose\, Mrs Oakley Fisher\, growing by the\nkitchen door. Restaurant opens 10am for delicious home-made food at coffee\,\nlunch and teatime\, served both inside and out on terrace\, open until 4pm on\nopen days. Grass paths across slope
URL:https://ramsburyhortsoc.co.uk/event/pythouse-kitchen-garden-open-for-ngs/
END:VEVENT
END:VCALENDAR