BEGIN:VCALENDAR
VERSION:2.0
PRODID:-//Ramsbury Horticultural Society - ECPv6.15.20//NONSGML v1.0//EN
CALSCALE:GREGORIAN
METHOD:PUBLISH
X-WR-CALNAME:Ramsbury Horticultural Society
X-ORIGINAL-URL:https://ramsburyhortsoc.co.uk
X-WR-CALDESC:Events for Ramsbury Horticultural Society
REFRESH-INTERVAL;VALUE=DURATION:PT1H
X-Robots-Tag:noindex
X-PUBLISHED-TTL:PT1H
BEGIN:VTIMEZONE
TZID:Europe/London
BEGIN:DAYLIGHT
TZOFFSETFROM:+0000
TZOFFSETTO:+0100
TZNAME:BST
DTSTART:20200329T010000
END:DAYLIGHT
BEGIN:STANDARD
TZOFFSETFROM:+0100
TZOFFSETTO:+0000
TZNAME:GMT
DTSTART:20201025T010000
END:STANDARD
BEGIN:DAYLIGHT
TZOFFSETFROM:+0000
TZOFFSETTO:+0100
TZNAME:BST
DTSTART:20210328T010000
END:DAYLIGHT
BEGIN:STANDARD
TZOFFSETFROM:+0100
TZOFFSETTO:+0000
TZNAME:GMT
DTSTART:20211031T010000
END:STANDARD
BEGIN:DAYLIGHT
TZOFFSETFROM:+0000
TZOFFSETTO:+0100
TZNAME:BST
DTSTART:20220327T010000
END:DAYLIGHT
BEGIN:STANDARD
TZOFFSETFROM:+0100
TZOFFSETTO:+0000
TZNAME:GMT
DTSTART:20221030T010000
END:STANDARD
END:VTIMEZONE
BEGIN:VEVENT
DTSTART;TZID=Europe/London:20210912T140000
DTEND;TZID=Europe/London:20210912T170000
DTSTAMP:20260421T011130
CREATED:20210705T111705Z
LAST-MODIFIED:20210705T111705Z
UID:994-1631455200-1631466000@ramsburyhortsoc.co.uk
SUMMARY:Cortington Manor & Southview open for NGS
DESCRIPTION:New Cortington Manor\nCorton\, Warminster\, BA12 0SY. Mr & Mrs Simon Berry.\n5m S of Warminster. From Warminster\, take rd thro Sutton Veny to Corton. Do\nnot bear L into Corton but continue for ½m. From A303\, take A36\, L to Boyton\,\ncross railway and R at T jnct. Continue for ¾m. Sun 12 Sept (2-5). Adm £7\, chd\nfree. Home-made teas.\n4 acres of wild and formal gardens surround rose clad C18 manor house.\nHerbaceous border\, yew bays with Portuguese laurel line main lawn. Bank of\nwhite roses and foxgloves edges swimming pool. Sweet pea arch opens to\ncutting garden\, veg garden and orchard divided by yew hedges. Lime avenue\nleads to river and pond from walled herb garden. Stable yard features\npleached hornbeams and beech hedges.\n1 Southview\nWick Lane\, Devizes\, SN10 5DR. Teresa Garraud\, 01380 722936\,\ntl.garraud@hotmail.co.uk.\nFrom Devizes Mkt Pl go S (Long St). At r’about go straight over\, at mini r’about\nturn L into Wick Lane. Continue to end of Wick Lane. End of terrace on L. Park\nin road or roads nearby. Sun 4 July\, Sun 12 Sept (2-5). Adm £4\, chd free. Visits\nalso by arrangement May to Sept for groups of up to 20.\nAn atmospheric and very long town garden\, full of wonderful planting surprises\nat every turn. Densely planted with both pots near the house and large borders\nfurther up\, it houses a collection of beautiful and often unusual plants\, shrubs\nand trees many with striking foliage. Colour from seasonal flowers is\ninterwoven with this textural tapestry. ‘Truly inspirational’ is often heard from\nvisitors
URL:https://ramsburyhortsoc.co.uk/event/cortington-manor-southview-open-for-ngs/
END:VEVENT
END:VCALENDAR