BEGIN:VCALENDAR
VERSION:2.0
PRODID:-//Ramsbury Horticultural Society - ECPv6.15.20//NONSGML v1.0//EN
CALSCALE:GREGORIAN
METHOD:PUBLISH
X-WR-CALNAME:Ramsbury Horticultural Society
X-ORIGINAL-URL:https://ramsburyhortsoc.co.uk
X-WR-CALDESC:Events for Ramsbury Horticultural Society
REFRESH-INTERVAL;VALUE=DURATION:PT1H
X-Robots-Tag:noindex
X-PUBLISHED-TTL:PT1H
BEGIN:VTIMEZONE
TZID:Europe/London
BEGIN:DAYLIGHT
TZOFFSETFROM:+0000
TZOFFSETTO:+0100
TZNAME:BST
DTSTART:20200329T010000
END:DAYLIGHT
BEGIN:STANDARD
TZOFFSETFROM:+0100
TZOFFSETTO:+0000
TZNAME:GMT
DTSTART:20201025T010000
END:STANDARD
BEGIN:DAYLIGHT
TZOFFSETFROM:+0000
TZOFFSETTO:+0100
TZNAME:BST
DTSTART:20210328T010000
END:DAYLIGHT
BEGIN:STANDARD
TZOFFSETFROM:+0100
TZOFFSETTO:+0000
TZNAME:GMT
DTSTART:20211031T010000
END:STANDARD
BEGIN:DAYLIGHT
TZOFFSETFROM:+0000
TZOFFSETTO:+0100
TZNAME:BST
DTSTART:20220327T010000
END:DAYLIGHT
BEGIN:STANDARD
TZOFFSETFROM:+0100
TZOFFSETTO:+0000
TZNAME:GMT
DTSTART:20221030T010000
END:STANDARD
END:VTIMEZONE
BEGIN:VEVENT
DTSTART;TZID=Europe/London:20210915T100000
DTEND;TZID=Europe/London:20210915T160000
DTSTAMP:20260421T011130
CREATED:20210705T111836Z
LAST-MODIFIED:20210705T111836Z
UID:996-1631700000-1631721600@ramsburyhortsoc.co.uk
SUMMARY:Hazelbury Manor Gardens open for NGS
DESCRIPTION:Hazelbury Manor Gardens\nWadswick\, Box\, Corsham\, SN13 8HX. Mr L Lacroix.\n5m SW of Chippenham\, 5m NE of Bath. From A4 at Box\, A365 to Melksham\, at\nFive Ways junction L onto B3109 towards Corsham; 1st L in ¼m\, drive immed\non R. Wed 26 May (10-4); Sun 4 July (1-5); Wed 15 Sept (10-4). Adm £5\, chd\nfree. Home-made teas.\nThe C15 Manor house comes into view as you descend along the drive and into\nthe Grade II landscaped Edwardian gardens. The extensive plantings that\nsurround the house are undergoing considerable redevelopment by the\nowners and their head gardener. A wide range of organic horticulture is practiced in 8 acres of relaxed yet playful gardens. Regretfully\, very little\nwheelchair access.
URL:https://ramsburyhortsoc.co.uk/event/hazelbury-manor-gardens-open-for-ngs/
END:VEVENT
END:VCALENDAR