BEGIN:VCALENDAR
VERSION:2.0
PRODID:-//Ramsbury Horticultural Society - ECPv6.15.20//NONSGML v1.0//EN
CALSCALE:GREGORIAN
METHOD:PUBLISH
X-WR-CALNAME:Ramsbury Horticultural Society
X-ORIGINAL-URL:https://ramsburyhortsoc.co.uk
X-WR-CALDESC:Events for Ramsbury Horticultural Society
REFRESH-INTERVAL;VALUE=DURATION:PT1H
X-Robots-Tag:noindex
X-PUBLISHED-TTL:PT1H
BEGIN:VTIMEZONE
TZID:Europe/London
BEGIN:DAYLIGHT
TZOFFSETFROM:+0000
TZOFFSETTO:+0100
TZNAME:BST
DTSTART:20240331T010000
END:DAYLIGHT
BEGIN:STANDARD
TZOFFSETFROM:+0100
TZOFFSETTO:+0000
TZNAME:GMT
DTSTART:20241027T010000
END:STANDARD
BEGIN:DAYLIGHT
TZOFFSETFROM:+0000
TZOFFSETTO:+0100
TZNAME:BST
DTSTART:20250330T010000
END:DAYLIGHT
BEGIN:STANDARD
TZOFFSETFROM:+0100
TZOFFSETTO:+0000
TZNAME:GMT
DTSTART:20251026T010000
END:STANDARD
BEGIN:DAYLIGHT
TZOFFSETFROM:+0000
TZOFFSETTO:+0100
TZNAME:BST
DTSTART:20260329T010000
END:DAYLIGHT
BEGIN:STANDARD
TZOFFSETFROM:+0100
TZOFFSETTO:+0000
TZNAME:GMT
DTSTART:20261025T010000
END:STANDARD
END:VTIMEZONE
BEGIN:VEVENT
DTSTART;TZID=Europe/London:20250303T193000
DTEND;TZID=Europe/London:20250303T220000
DTSTAMP:20260421T233305
CREATED:20241003T153018Z
LAST-MODIFIED:20250203T170250Z
UID:1448-1741030200-1741039200@ramsburyhortsoc.co.uk
SUMMARY:Talk - Bombproof Roses for The Modern Gardener by Val Bourne
DESCRIPTION:Val Bourne  3rd March  Bombproof Roses for The Modern Gardener \n  \nVal Bourne is an award-winning garden writer\, organic gardener and lecturer an organic gardener. Val\, unable to spray for the fungal disease black spot\, has identified some super-healthy roses and uses them in her garden at Spring Cottage. Bourton- on-the-Water. Many of the old roses have Gallica blood somewhere in their lineage\, but she can also grow Albas\, Hybrid Musks\, Ramblers and some climbers. In her mixed peony\, rose and phlox borders she has added some modern shrub and floribunda roses. She is a hands on gardener and a committed plantaholic. The talk covers the roses\, their companions\, rose pruning and feeding. \nDoors open 7.30 pm talk starts 74.45pm in the Church Rooms\, Ramsbury \nMembers £1  Non-Members £2 which includes raffle ticket & tea
URL:https://ramsburyhortsoc.co.uk/event/talk-details-to-follow-2/
LOCATION:Church Rooms
ATTACH;FMTTYPE=image/jpeg:https://ramsburyhortsoc.co.uk/wp-content/uploads/2025/02/Powerpoint-Rose-Garden-Background-Made-with-PosterMyWall-1.jpg
END:VEVENT
END:VCALENDAR