BEGIN:VCALENDAR
VERSION:2.0
PRODID:-//Ramsbury Horticultural Society - ECPv6.15.20//NONSGML v1.0//EN
CALSCALE:GREGORIAN
METHOD:PUBLISH
X-WR-CALNAME:Ramsbury Horticultural Society
X-ORIGINAL-URL:https://ramsburyhortsoc.co.uk
X-WR-CALDESC:Events for Ramsbury Horticultural Society
REFRESH-INTERVAL;VALUE=DURATION:PT1H
X-Robots-Tag:noindex
X-PUBLISHED-TTL:PT1H
BEGIN:VTIMEZONE
TZID:Europe/London
BEGIN:DAYLIGHT
TZOFFSETFROM:+0000
TZOFFSETTO:+0100
TZNAME:BST
DTSTART:20240331T010000
END:DAYLIGHT
BEGIN:STANDARD
TZOFFSETFROM:+0100
TZOFFSETTO:+0000
TZNAME:GMT
DTSTART:20241027T010000
END:STANDARD
BEGIN:DAYLIGHT
TZOFFSETFROM:+0000
TZOFFSETTO:+0100
TZNAME:BST
DTSTART:20250330T010000
END:DAYLIGHT
BEGIN:STANDARD
TZOFFSETFROM:+0100
TZOFFSETTO:+0000
TZNAME:GMT
DTSTART:20251026T010000
END:STANDARD
BEGIN:DAYLIGHT
TZOFFSETFROM:+0000
TZOFFSETTO:+0100
TZNAME:BST
DTSTART:20260329T010000
END:DAYLIGHT
BEGIN:STANDARD
TZOFFSETFROM:+0100
TZOFFSETTO:+0000
TZNAME:GMT
DTSTART:20261025T010000
END:STANDARD
END:VTIMEZONE
BEGIN:VEVENT
DTSTART;TZID=Europe/London:20250412T140000
DTEND;TZID=Europe/London:20250412T160000
DTSTAMP:20260419T192839
CREATED:20250203T140620Z
LAST-MODIFIED:20250317T144100Z
UID:1498-1744466400-1744473600@ramsburyhortsoc.co.uk
SUMMARY:Spring Show
DESCRIPTION:SPRING SHOW\nSaturday 12th April\nRamsbury Memorial Hall\nShow opens: 2.00 pm\nPresentation of awards: 4.00 pm \nEntry is free & open to non members \nRamsbury Bowls Club will be serving Tea & Cake along side other fundraising activities.  Please note this is CASH ONLY \nPlease Click to view classes FINAL SCEHDULE 2025 RHS \n \nclass 44  please print a4  and write child’s name & age on reverse \nclass 43 ideas 
URL:https://ramsburyhortsoc.co.uk/event/spring-show-4/
LOCATION:Ramsbury Memorial Hall\, United Kingdom
ATTACH;FMTTYPE=image/jpeg:https://ramsburyhortsoc.co.uk/wp-content/uploads/2025/02/spring-show-v2.jpg
END:VEVENT
END:VCALENDAR