BEGIN:VCALENDAR
VERSION:2.0
PRODID:-//Ramsbury Horticultural Society - ECPv6.15.20//NONSGML v1.0//EN
CALSCALE:GREGORIAN
METHOD:PUBLISH
X-ORIGINAL-URL:https://ramsburyhortsoc.co.uk
X-WR-CALDESC:Events for Ramsbury Horticultural Society
REFRESH-INTERVAL;VALUE=DURATION:PT1H
X-Robots-Tag:noindex
X-PUBLISHED-TTL:PT1H
BEGIN:VTIMEZONE
TZID:Europe/London
BEGIN:DAYLIGHT
TZOFFSETFROM:+0000
TZOFFSETTO:+0100
TZNAME:BST
DTSTART:20190331T010000
END:DAYLIGHT
BEGIN:STANDARD
TZOFFSETFROM:+0100
TZOFFSETTO:+0000
TZNAME:GMT
DTSTART:20191027T010000
END:STANDARD
BEGIN:DAYLIGHT
TZOFFSETFROM:+0000
TZOFFSETTO:+0100
TZNAME:BST
DTSTART:20200329T010000
END:DAYLIGHT
BEGIN:STANDARD
TZOFFSETFROM:+0100
TZOFFSETTO:+0000
TZNAME:GMT
DTSTART:20201025T010000
END:STANDARD
BEGIN:DAYLIGHT
TZOFFSETFROM:+0000
TZOFFSETTO:+0100
TZNAME:BST
DTSTART:20210328T010000
END:DAYLIGHT
BEGIN:STANDARD
TZOFFSETFROM:+0100
TZOFFSETTO:+0000
TZNAME:GMT
DTSTART:20211031T010000
END:STANDARD
END:VTIMEZONE
BEGIN:VEVENT
DTSTART;TZID=Europe/London:20200613T100000
DTEND;TZID=Europe/London:20200613T120000
DTSTAMP:20260424T111713
CREATED:20200115T110238Z
LAST-MODIFIED:20200115T110238Z
UID:260-1592042400-1592049600@ramsburyhortsoc.co.uk
SUMMARY:Plant Sale
DESCRIPTION:As part of Ramsbury Street Fair. \nDrop off details to be announced nearer the time. \nIf you have plants ready potted up that you are unable to store until June  please do contact us either by email hortsoc@ramsbury.org or by phone Denise 0786 792 1878 \n 
URL:https://ramsburyhortsoc.co.uk/event/plant-sale/
END:VEVENT
BEGIN:VEVENT
DTSTART;TZID=Europe/London:20200614T140000
DTEND;TZID=Europe/London:20200614T173000
DTSTAMP:20260424T111713
CREATED:20200310T231730Z
LAST-MODIFIED:20200404T005253Z
UID:303-1592143200-1592155800@ramsburyhortsoc.co.uk
SUMMARY:NGS Day In Ramsbury
DESCRIPTION:All National Garden Scheme Days have been suspended for this year. \nhttps://ngs.org.uk/view-garden/31069/ \n 
URL:https://ramsburyhortsoc.co.uk/event/ngs-day-in-ramsbury/
END:VEVENT
BEGIN:VEVENT
DTSTART;TZID=Europe/London:20200621T140000
DTEND;TZID=Europe/London:20200621T180000
DTSTAMP:20260424T111713
CREATED:20200115T111626Z
LAST-MODIFIED:20210410T130623Z
UID:264-1592748000-1592762400@ramsburyhortsoc.co.uk
SUMMARY:Ramsbury Open Gardens ‘My Favourite Corners’
DESCRIPTION:Hello and welcome to Ramsbury Horticultural Society Open Gardens 2020 \n‘My Favourite Corners’ \nSaddened not be able to physically welcome but super excited that you have stopped by. Thank you to our garden owners for photographing their favourite Corners & allowing us in too. \n‘My Favourite Corners’ the brain child of Dr Michael Handford. \nWe do hope you enjoy your visit and of course you can come back again and again. The open gardens event is our largest fund raiser for charity. Our usual entry fee is obviously redundant this year but we very much would appreciate a donation to Wiltshire Air Ambulance. This event entry fee would have been £8.00 as a guide. The site address can be found below to make a direct donation or a collection box can be found in the Post Office\, feel free to pop an envelope into the charity shop door marked Wilts Air Ambulance.   \n  \nTo start your garden tour Of Mouse House click here:             mouse house(1)        \nTo start your garden tour Of 18 The Paddocks click here:      Down the garden path at Sheila and Clives \nTo start your garden tour Of Ramsbury Hill click here:          Julias Garden \nTo start your garden tour Of Howe Mill click here:                   howe mill \nTo start your garden tour Of Kimberley Cottage  click here: margaret and paul \nTo start your garden tour Of Kenet House click here:              Rachel and Peter \nTo start your garden tour Of Primrose Cottage click here:    carol 2 \nTo start your garden tour Of Millstream click here:                 Michaels \n  \nTo make a donation directly from here please click below: \nhttps://www.wiltshireairambulance.co.uk/donate/ \n  \nThank You All again\, Stay Safe \nDee & Di xxx \n 
URL:https://ramsburyhortsoc.co.uk/event/ramsbury-open-gardens-2/
END:VEVENT
END:VCALENDAR