BEGIN:VCALENDAR
VERSION:2.0
PRODID:-//Ramsbury Horticultural Society - ECPv6.15.20//NONSGML v1.0//EN
CALSCALE:GREGORIAN
METHOD:PUBLISH
X-ORIGINAL-URL:https://ramsburyhortsoc.co.uk
X-WR-CALDESC:Events for Ramsbury Horticultural Society
REFRESH-INTERVAL;VALUE=DURATION:PT1H
X-Robots-Tag:noindex
X-PUBLISHED-TTL:PT1H
BEGIN:VTIMEZONE
TZID:Europe/London
BEGIN:DAYLIGHT
TZOFFSETFROM:+0000
TZOFFSETTO:+0100
TZNAME:BST
DTSTART:20190331T010000
END:DAYLIGHT
BEGIN:STANDARD
TZOFFSETFROM:+0100
TZOFFSETTO:+0000
TZNAME:GMT
DTSTART:20191027T010000
END:STANDARD
BEGIN:DAYLIGHT
TZOFFSETFROM:+0000
TZOFFSETTO:+0100
TZNAME:BST
DTSTART:20200329T010000
END:DAYLIGHT
BEGIN:STANDARD
TZOFFSETFROM:+0100
TZOFFSETTO:+0000
TZNAME:GMT
DTSTART:20201025T010000
END:STANDARD
BEGIN:DAYLIGHT
TZOFFSETFROM:+0000
TZOFFSETTO:+0100
TZNAME:BST
DTSTART:20210328T010000
END:DAYLIGHT
BEGIN:STANDARD
TZOFFSETFROM:+0100
TZOFFSETTO:+0000
TZNAME:GMT
DTSTART:20211031T010000
END:STANDARD
END:VTIMEZONE
BEGIN:VEVENT
DTSTART;TZID=Europe/London:20201003T140000
DTEND;TZID=Europe/London:20201003T163000
DTSTAMP:20260421T202750
CREATED:20200115T105024Z
LAST-MODIFIED:20210410T122518Z
UID:252-1601733600-1601742600@ramsburyhortsoc.co.uk
SUMMARY:AUTUMN SHOW  Virtual Event
DESCRIPTION:As the year grows older the season changes the temperature cools and the nights draw in mother nature doesn’t fail us she brings us a whole new adventure of colour and life to our gardens.\nOnce again a varied selection of entries all with one goal To Spread A Little Joy.\n\nAs an extra to our show this year we have another TAB for you to enjoy a real feast for the eyes Holy Cross Harvest Flowers Harvest festival is a celebration of the land to be sung out loud. The ladies of the village work so hard to show the harvest at its very best and for that we Thank them.\nEnjoy the tour.\n\n\n Click the class title to view:\nChilli Peppers \nVegetable Harvest Basket \nApples \nHarvest Fruit Basket \nDahlias(1) \nAny other flowers(1) \nautumn foliage \nAn english country garden \nwinter larder \nAnzac Biscuits \nsweets – my favourites \nautumn visitors in the garden \nHoly Cross – Harvest Flowers \nThank You To Everyone\nDee & Di xx\n  \n 
URL:https://ramsburyhortsoc.co.uk/event/autumn-show-and-wi-country-market/
LOCATION:Ramsbury Memorial Hall\, United Kingdom
END:VEVENT
BEGIN:VEVENT
DTSTART;TZID=Europe/London:20201005T193000
DTEND;TZID=Europe/London:20201005T213000
DTSTAMP:20260421T202750
CREATED:20200115T112643Z
LAST-MODIFIED:20200911T220347Z
UID:268-1601926200-1601933400@ramsburyhortsoc.co.uk
SUMMARY:Talk: Marcus Dancer  Postponded
DESCRIPTION:Although Marcus Dancer is a clematis specialist\, he grows a wide range of plants in his nursery and he will be talking about Scented Plants throughout the Year. Marcus will be bringing a selection of plants for sale. See https://clematisplants.co.uk/ for his range of plants. \n 
URL:https://ramsburyhortsoc.co.uk/event/talk-marcus-dancer/
LOCATION:Church Rooms
END:VEVENT
BEGIN:VEVENT
DTSTART;TZID=Europe/London:20201010T100000
DTEND;TZID=Europe/London:20201010T120000
DTSTAMP:20260421T202750
CREATED:20201003T113240Z
LAST-MODIFIED:20201003T113240Z
UID:866-1602324000-1602331200@ramsburyhortsoc.co.uk
SUMMARY:W.I Farmers Market Collection Day
DESCRIPTION:All Pre ordered goods can be collected and paid for at Ramsbury Memorial Hall between 10am and midday. \nSocial distancing measures in place.
URL:https://ramsburyhortsoc.co.uk/event/w-i-farmers-market-collection-day/
LOCATION:Ramsbury Memorial Hall\, United Kingdom
END:VEVENT
END:VCALENDAR