BEGIN:VCALENDAR
VERSION:2.0
PRODID:-//Ramsbury Horticultural Society - ECPv6.15.20//NONSGML v1.0//EN
CALSCALE:GREGORIAN
METHOD:PUBLISH
X-WR-CALNAME:Ramsbury Horticultural Society
X-ORIGINAL-URL:https://ramsburyhortsoc.co.uk
X-WR-CALDESC:Events for Ramsbury Horticultural Society
REFRESH-INTERVAL;VALUE=DURATION:PT1H
X-Robots-Tag:noindex
X-PUBLISHED-TTL:PT1H
BEGIN:VTIMEZONE
TZID:Europe/London
BEGIN:DAYLIGHT
TZOFFSETFROM:+0000
TZOFFSETTO:+0100
TZNAME:BST
DTSTART:20200329T010000
END:DAYLIGHT
BEGIN:STANDARD
TZOFFSETFROM:+0100
TZOFFSETTO:+0000
TZNAME:GMT
DTSTART:20201025T010000
END:STANDARD
BEGIN:DAYLIGHT
TZOFFSETFROM:+0000
TZOFFSETTO:+0100
TZNAME:BST
DTSTART:20210328T010000
END:DAYLIGHT
BEGIN:STANDARD
TZOFFSETFROM:+0100
TZOFFSETTO:+0000
TZNAME:GMT
DTSTART:20211031T010000
END:STANDARD
BEGIN:DAYLIGHT
TZOFFSETFROM:+0000
TZOFFSETTO:+0100
TZNAME:BST
DTSTART:20220327T010000
END:DAYLIGHT
BEGIN:STANDARD
TZOFFSETFROM:+0100
TZOFFSETTO:+0000
TZNAME:GMT
DTSTART:20221030T010000
END:STANDARD
END:VTIMEZONE
BEGIN:VEVENT
DTSTART;TZID=Europe/London:20210801T080000
DTEND;TZID=Europe/London:20210801T170000
DTSTAMP:20260421T011043
CREATED:20210705T112300Z
LAST-MODIFIED:20210705T115924Z
UID:1003-1627804800-1627837200@ramsburyhortsoc.co.uk
SUMMARY:BROADLEAS HOUSE GARDENS & Duck Pond Barn open for NGS
DESCRIPTION:A special opening – The garden is opening as a pop-up and as part of the\nRadio 2 Big Bee Challenge on Sunday 1st August. Broadleas’ professional\nbeekeeper\, Graham Davison\, will be on hand – he has 8 hives in the garden and\nvisitors are welcome to ask questions as well as buy Broadleas Honey and honey\nfrom the local area.\nDevizes\, SN10 5JQ. Mr & Mrs Cardiff\, 07584 119362\, robwaller76@gmail.com. 1m S\nof Devizes. Turn L from Hartmoor Road onto Broadleas Park. Follow the road until\nyou reach grassed area on R with red brick wall\, stone pillars\, grey gates\, cattle grid.\nThat is the entrance. Home-made teas\n6 acre garden of hedges\, perennial borders\, walled rose garden\, secret garden\, bee\ngarden and orchard stuffed with good plants. Well stocked kitchen and herb\ngarden. Mature collection of specimen trees incl oaks\, magnolia\, handkerchief\,\nredwood\, dogwood. Overlooked by the house and arranged above the valley\ngarden crowded with magnolias\, camellias\, rhododendrons\, azaleas\, cornus\,\nhydrangeas etc. Wheelchair access to upper garden only\, some gravel and narrow\nspecimen trees incl oaks\, magnolia\, handkerchief\, redwood\, dogwood. Wheelchair\naccess to upper garden only\, some gravel and narrow. \n  \nDuck Pond Barn\nChurch Lane\, Wingfield\, Trowbridge\, BA14 9LW. Janet & Marc Berlin\,\n01225 777764\, janet@berlinfamily.co.uk.\nOn B3109 from Frome to Bradford on Avon\,\nturn opp Poplars PH into Church Lane. Duck\nPond Barn is at end of lane. Big field for\nparking. Sun 27 June\, Sun 1 Aug (10-6). Adm\n£5\, chd free. Visits also by arrangement May\nto Aug.\nGarden of 1.6 acres with large duck pond\,\nlawns\, ericaceous beds\, orchard\, vegetable\ngarden\, big greenhouse\, spinney and wild\narea of grass and trees with many wildflowers. Large dry stone wall topped\nwith flower beds with rose arbour. 3 ponds linked by a rill in flower garden and\nlarge pergola in orchard. Set in farmland and mainly flat. Coach parties please\nring in advance for catering purposes.
URL:https://ramsburyhortsoc.co.uk/event/broadleas-house-gardens-open-for-ngs/
END:VEVENT
BEGIN:VEVENT
DTSTART;TZID=Europe/London:20210807T080000
DTEND;TZID=Europe/London:20210807T170000
DTSTAMP:20260421T011043
CREATED:20210704T120432Z
LAST-MODIFIED:20210704T120432Z
UID:983-1628323200-1628355600@ramsburyhortsoc.co.uk
SUMMARY:Summer Show
DESCRIPTION:
URL:https://ramsburyhortsoc.co.uk/event/summer-show-3/
END:VEVENT
BEGIN:VEVENT
DTSTART;TZID=Europe/London:20210815T080000
DTEND;TZID=Europe/London:20210815T170000
DTSTAMP:20260421T011043
CREATED:20210705T120118Z
LAST-MODIFIED:20210705T120118Z
UID:1010-1629014400-1629046800@ramsburyhortsoc.co.uk
SUMMARY:Broadleas House Gardens & Gasper Cottage open for NGS
DESCRIPTION:Broadleas House Gardens\nDevizes\, SN10 5JQ. Mr & Mrs Cardiff\, 07584 119362\, robwaller76@gmail.com.\n1m S of Devizes. Turn L from Hartmoor Road onto Broadleas Park. Follow the\nroad until you reach grassed area on R with red brick wall\, stone pillars\, grey\ngates\, cattle grid. That is the entrance. Sun 18 Apr\, Sun 16 May\, Sun 20 June\,\nSun 15 Aug (2-5). Adm £7\, chd free. Home-made teas. Visits also by\narrangement Mar to Sept for groups of 10+.\n6 acre garden of hedges\, perennial borders\, walled rose garden\, secret garden\,\nbee garden and orchard stuffed with good plants. Well stocked kitchen and\nherb garden. Mature collection of specimen trees incl oaks\, magnolia\,\nhandkerchief\, redwood\, dogwood. Overlooked by the house and arranged\nabove the valley garden crowded with magnolias\, camellias\, rhododendrons\,\nazaleas\, cornus\, hydrangeas etc. Pre-wrapped slices of cake with unlimited\ntea/coffee/soft drink in disposable cups (please re-use your cup for refills)\, £5\nper serving. Wheelchair access to upper garden only\, some gravel and narrow\ngrass paths. \n  \nGasper Cottage\nGasper Street\, Gasper Stourton\, Warminster\, BA12 6PY. Bella Hoare &\nJohnnie Gallop\, bella.hoare@icloud.com.\nNear Stourhead Gardens\, 4m from Mere\, off A303.\nTurn off A303 at B3092 Mere. Follow Stourhead signs.\nGo through Stourton. After 1m\, turn R after phone\nbox\, signed Gasper. House 2nd on R going up hill.\nParking past house on L\, in field. Sun 15 Aug (11-5).\nAdm £5\, chd free. Visits also by arrangement June to\nSept for groups of 10 to 20.\n1½ acre garden\, with views to glorious countryside.\nLuxurious planting of dahlias\, grasses\, asters\,\ncardoons and more\, incl new perennial planting.\nOrchard with wildlife pond. Artist studio surrounded\nby colour balanced planting with formal pond. Pergola with herb terrace.\nSeveral seating areas. Garden model railway. Partial wheelchair access.
URL:https://ramsburyhortsoc.co.uk/event/broadleas-house-gardens-gasper-cottage-open-for-ngs/
END:VEVENT
BEGIN:VEVENT
DTSTART;TZID=Europe/London:20210822T133000
DTEND;TZID=Europe/London:20210822T170000
DTSTAMP:20260421T011043
CREATED:20210705T120220Z
LAST-MODIFIED:20210705T120247Z
UID:1012-1629639000-1629651600@ramsburyhortsoc.co.uk
SUMMARY:The Old Mill open for NGS
DESCRIPTION:The Old Mill\nRamsbury\, SN8 2PN. Annabel & James Dallas. 8m NE of Marlborough. From\nMarlborough head to Ramsbury. At The Bell PH follow sign to Hungerford.\nGarden behind yew hedge on R 100yds beyond The Bell. Sun 25 July\, Sun 22\nAug (1.30-5). Adm £6\, chd free. Tea.\nThe River Kennet runs through this garden with a millrace\, a millstream and\nsmall channels to walk across and watch the reflections in. The planting is\nrelaxed and colourful near the house and gets more naturalistic further out\ninto the meadows beyond. Gravel and grass paths wind through controlled\nwilder areas with seating for visitors. There is a more formal and productive\nkitchen garden. Partial wheelchair access as gravel paths and bridges and very\nsoft ground in places.
URL:https://ramsburyhortsoc.co.uk/event/the-old-mill/
END:VEVENT
END:VCALENDAR